BEGIN:VCALENDAR
VERSION:2.0
PRODID:-//Casa dei Bambini - ECPv6.15.13//NONSGML v1.0//EN
CALSCALE:GREGORIAN
METHOD:PUBLISH
X-ORIGINAL-URL:https://casadeibambinizambia.com
X-WR-CALDESC:Events for Casa dei Bambini
REFRESH-INTERVAL;VALUE=DURATION:PT1H
X-Robots-Tag:noindex
X-PUBLISHED-TTL:PT1H
BEGIN:VTIMEZONE
TZID:Africa/Lusaka
BEGIN:STANDARD
TZOFFSETFROM:+0200
TZOFFSETTO:+0200
TZNAME:CAT
DTSTART:20250101T000000
END:STANDARD
END:VTIMEZONE
BEGIN:VEVENT
DTSTART;VALUE=DATE:20260112
DTEND;VALUE=DATE:20260113
DTSTAMP:20260424T082453
CREATED:20250904T190823Z
LAST-MODIFIED:20250904T190823Z
UID:3014-1768176000-1768262399@casadeibambinizambia.com
SUMMARY:Orientation Morning
DESCRIPTION:
URL:https://casadeibambinizambia.com/event/orientation-morning-4/
END:VEVENT
BEGIN:VEVENT
DTSTART;VALUE=DATE:20260113
DTEND;VALUE=DATE:20260114
DTSTAMP:20260424T082453
CREATED:20250904T190840Z
LAST-MODIFIED:20250904T190840Z
UID:3016-1768262400-1768348799@casadeibambinizambia.com
SUMMARY:First Day of School
DESCRIPTION:
URL:https://casadeibambinizambia.com/event/first-day-of-school-14/
END:VEVENT
END:VCALENDAR