BEGIN:VCALENDAR
VERSION:2.0
PRODID:-//Casa dei Bambini - ECPv6.15.13//NONSGML v1.0//EN
CALSCALE:GREGORIAN
METHOD:PUBLISH
X-WR-CALNAME:Casa dei Bambini
X-ORIGINAL-URL:https://casadeibambinizambia.com
X-WR-CALDESC:Events for Casa dei Bambini
REFRESH-INTERVAL;VALUE=DURATION:PT1H
X-Robots-Tag:noindex
X-PUBLISHED-TTL:PT1H
BEGIN:VTIMEZONE
TZID:Africa/Lusaka
BEGIN:STANDARD
TZOFFSETFROM:+0200
TZOFFSETTO:+0200
TZNAME:CAT
DTSTART:20160101T000000
END:STANDARD
END:VTIMEZONE
BEGIN:VEVENT
DTSTART;VALUE=DATE:20170808
DTEND;VALUE=DATE:20170809
DTSTAMP:20260425T130846
CREATED:20170620T085354Z
LAST-MODIFIED:20170620T085354Z
UID:1418-1502150400-1502236799@casadeibambinizambia.com
SUMMARY:First Day of Term 1
DESCRIPTION:
URL:https://casadeibambinizambia.com/event/first-day-of-term-1/
END:VEVENT
BEGIN:VEVENT
DTSTART;VALUE=DATE:20170614
DTEND;VALUE=DATE:20170615
DTSTAMP:20260425T130846
CREATED:20170321T124123Z
LAST-MODIFIED:20170321T124123Z
UID:1221-1497398400-1497484799@casadeibambinizambia.com
SUMMARY:Last Day of School
DESCRIPTION:
URL:https://casadeibambinizambia.com/event/last-day-of-school/
END:VEVENT
BEGIN:VEVENT
DTSTART;VALUE=DATE:20170525
DTEND;VALUE=DATE:20170526
DTSTAMP:20260425T130846
CREATED:20170321T123725Z
LAST-MODIFIED:20170321T123725Z
UID:1218-1495670400-1495756799@casadeibambinizambia.com
SUMMARY:Africa Freedom Day
DESCRIPTION:Public Holiday
URL:https://casadeibambinizambia.com/event/africa-freedom-day/
CATEGORIES:Public Holidays
END:VEVENT
BEGIN:VEVENT
DTSTART;VALUE=DATE:20170501
DTEND;VALUE=DATE:20170502
DTSTAMP:20260425T130846
CREATED:20170321T123242Z
LAST-MODIFIED:20170321T123242Z
UID:1216-1493596800-1493683199@casadeibambinizambia.com
SUMMARY:Labour Day
DESCRIPTION:Public Holiday
URL:https://casadeibambinizambia.com/event/labour-day/
CATEGORIES:Public Holidays
END:VEVENT
BEGIN:VEVENT
DTSTART;VALUE=DATE:20170418
DTEND;VALUE=DATE:20170419
DTSTAMP:20260425T130846
CREATED:20170321T123104Z
LAST-MODIFIED:20170321T125131Z
UID:1214-1492473600-1492559999@casadeibambinizambia.com
SUMMARY:First Day of School (Term 3)
DESCRIPTION:
URL:https://casadeibambinizambia.com/event/first-day-of-school-term-3/
END:VEVENT
BEGIN:VEVENT
DTSTART;VALUE=DATE:20170410
DTEND;VALUE=DATE:20170418
DTSTAMP:20260425T130846
CREATED:20170321T122820Z
LAST-MODIFIED:20170321T122820Z
UID:1212-1491782400-1492473599@casadeibambinizambia.com
SUMMARY:Easter Break
DESCRIPTION:
URL:https://casadeibambinizambia.com/event/easter-break/
CATEGORIES:School Holiday
END:VEVENT
BEGIN:VEVENT
DTSTART;VALUE=DATE:20170313
DTEND;VALUE=DATE:20170314
DTSTAMP:20260425T130846
CREATED:20170222T094039Z
LAST-MODIFIED:20170222T094039Z
UID:1195-1489363200-1489449599@casadeibambinizambia.com
SUMMARY:Zambia Youth Day
DESCRIPTION:
URL:https://casadeibambinizambia.com/event/zambia-youth-day/
CATEGORIES:Public Holidays
END:VEVENT
BEGIN:VEVENT
DTSTART;VALUE=DATE:20170308
DTEND;VALUE=DATE:20170309
DTSTAMP:20260425T130846
CREATED:20170222T093643Z
LAST-MODIFIED:20170222T093835Z
UID:1193-1488931200-1489017599@casadeibambinizambia.com
SUMMARY:International Womens' Day
DESCRIPTION:
URL:https://casadeibambinizambia.com/event/international-womens-day/
CATEGORIES:Public Holidays
END:VEVENT
END:VCALENDAR