BEGIN:VCALENDAR
VERSION:2.0
PRODID:-//Casa dei Bambini - ECPv6.15.13//NONSGML v1.0//EN
CALSCALE:GREGORIAN
METHOD:PUBLISH
X-WR-CALNAME:Casa dei Bambini
X-ORIGINAL-URL:https://casadeibambinizambia.com
X-WR-CALDESC:Events for Casa dei Bambini
REFRESH-INTERVAL;VALUE=DURATION:PT1H
X-Robots-Tag:noindex
X-PUBLISHED-TTL:PT1H
BEGIN:VTIMEZONE
TZID:Africa/Lusaka
BEGIN:STANDARD
TZOFFSETFROM:+0200
TZOFFSETTO:+0200
TZNAME:CAT
DTSTART:20160101T000000
END:STANDARD
END:VTIMEZONE
BEGIN:VEVENT
DTSTART;VALUE=DATE:20191128
DTEND;VALUE=DATE:20191130
DTSTAMP:20260425T144942
CREATED:20190313T083719Z
LAST-MODIFIED:20190313T083719Z
UID:1894-1574899200-1575071999@casadeibambinizambia.com
SUMMARY:Thanksgiving Holiday
DESCRIPTION:
URL:https://casadeibambinizambia.com/event/thanksgiving-holiday-3/
END:VEVENT
BEGIN:VEVENT
DTSTART;VALUE=DATE:20191024
DTEND;VALUE=DATE:20191025
DTSTAMP:20260425T144942
CREATED:20190313T083654Z
LAST-MODIFIED:20190313T083654Z
UID:1892-1571875200-1571961599@casadeibambinizambia.com
SUMMARY:Independence Day Holiday
DESCRIPTION:
URL:https://casadeibambinizambia.com/event/independence-day-holiday/
END:VEVENT
BEGIN:VEVENT
DTSTART;TZID=Africa/Lusaka:20191021T080000
DTEND;TZID=Africa/Lusaka:20191021T123000
DTSTAMP:20260425T144942
CREATED:20190313T083638Z
LAST-MODIFIED:20190313T083638Z
UID:1891-1571644800-1571661000@casadeibambinizambia.com
SUMMARY:Back to School
DESCRIPTION:
URL:https://casadeibambinizambia.com/event/back-to-school-4/
END:VEVENT
BEGIN:VEVENT
DTSTART;VALUE=DATE:20191014
DTEND;VALUE=DATE:20191019
DTSTAMP:20260425T144942
CREATED:20190313T083518Z
LAST-MODIFIED:20190313T083518Z
UID:1889-1571011200-1571443199@casadeibambinizambia.com
SUMMARY:Half Term
DESCRIPTION:
URL:https://casadeibambinizambia.com/event/half-term-2/
END:VEVENT
BEGIN:VEVENT
DTSTART;VALUE=DATE:20190916
DTEND;VALUE=DATE:20190917
DTSTAMP:20260425T144942
CREATED:20190313T083450Z
LAST-MODIFIED:20190313T083450Z
UID:1887-1568592000-1568678399@casadeibambinizambia.com
SUMMARY:Holiday
DESCRIPTION:
URL:https://casadeibambinizambia.com/event/holiday/
END:VEVENT
BEGIN:VEVENT
DTSTART;TZID=Africa/Lusaka:20190808T080000
DTEND;TZID=Africa/Lusaka:20190808T123000
DTSTAMP:20260425T144942
CREATED:20190313T081400Z
LAST-MODIFIED:20190313T081400Z
UID:1881-1565251200-1565267400@casadeibambinizambia.com
SUMMARY:First Day of School
DESCRIPTION:
URL:https://casadeibambinizambia.com/event/first-day-of-school/
END:VEVENT
BEGIN:VEVENT
DTSTART;VALUE=DATE:20190613
DTEND;VALUE=DATE:20190614
DTSTAMP:20260425T144942
CREATED:20180831T114009Z
LAST-MODIFIED:20180831T114009Z
UID:1750-1560384000-1560470399@casadeibambinizambia.com
SUMMARY:Last day of School
DESCRIPTION:
URL:https://casadeibambinizambia.com/event/last-day-of-school-3/
END:VEVENT
BEGIN:VEVENT
DTSTART;VALUE=DATE:20190501
DTEND;VALUE=DATE:20190502
DTSTAMP:20260425T144942
CREATED:20180831T113950Z
LAST-MODIFIED:20180831T113950Z
UID:1749-1556668800-1556755199@casadeibambinizambia.com
SUMMARY:Labor Day – Holiday
DESCRIPTION:
URL:https://casadeibambinizambia.com/event/labor-day-holiday-2/
END:VEVENT
BEGIN:VEVENT
DTSTART;VALUE=DATE:20190423
DTEND;VALUE=DATE:20190424
DTSTAMP:20260425T144942
CREATED:20180831T113931Z
LAST-MODIFIED:20180831T113931Z
UID:1751-1555977600-1556063999@casadeibambinizambia.com
SUMMARY:Back to School
DESCRIPTION:
URL:https://casadeibambinizambia.com/event/back-to-school-3/
END:VEVENT
BEGIN:VEVENT
DTSTART;VALUE=DATE:20190422
DTEND;VALUE=DATE:20190423
DTSTAMP:20260425T144942
CREATED:20180831T113901Z
LAST-MODIFIED:20180831T113901Z
UID:1741-1555891200-1555977599@casadeibambinizambia.com
SUMMARY:Easter Monday Holiday
DESCRIPTION:
URL:https://casadeibambinizambia.com/event/easter-monday-holiday/
END:VEVENT
BEGIN:VEVENT
DTSTART;VALUE=DATE:20190419
DTEND;VALUE=DATE:20190420
DTSTAMP:20260425T144942
CREATED:20180831T113847Z
LAST-MODIFIED:20180831T113847Z
UID:1739-1555632000-1555718399@casadeibambinizambia.com
SUMMARY:Good Friday Holiday
DESCRIPTION:
URL:https://casadeibambinizambia.com/event/good-friday-holiday-2/
END:VEVENT
BEGIN:VEVENT
DTSTART;TZID=Africa/Lusaka:20190318T080000
DTEND;TZID=Africa/Lusaka:20190318T170000
DTSTAMP:20260425T144942
CREATED:20180831T113827Z
LAST-MODIFIED:20190313T084712Z
UID:1738-1552896000-1552928400@casadeibambinizambia.com
SUMMARY:Back to School
DESCRIPTION:
URL:https://casadeibambinizambia.com/event/back-to-school-term-3/
END:VEVENT
BEGIN:VEVENT
DTSTART;VALUE=DATE:20190307
DTEND;VALUE=DATE:20190316
DTSTAMP:20260425T144942
CREATED:20180831T113803Z
LAST-MODIFIED:20180831T113803Z
UID:1736-1551916800-1552694399@casadeibambinizambia.com
SUMMARY:Half Term Break
DESCRIPTION:
URL:https://casadeibambinizambia.com/event/half-term-break/
END:VEVENT
BEGIN:VEVENT
DTSTART;TZID=Africa/Lusaka:20190115T080000
DTEND;TZID=Africa/Lusaka:20190115T170000
DTSTAMP:20260425T144942
CREATED:20180831T113728Z
LAST-MODIFIED:20180831T113728Z
UID:1740-1547539200-1547571600@casadeibambinizambia.com
SUMMARY:Back to School (Term 2)
DESCRIPTION:
URL:https://casadeibambinizambia.com/event/back-to-school-term-2/
END:VEVENT
BEGIN:VEVENT
DTSTART;VALUE=DATE:20181217
DTEND;VALUE=DATE:20190115
DTSTAMP:20260425T144942
CREATED:20180831T113628Z
LAST-MODIFIED:20180831T113653Z
UID:1737-1545004800-1547510399@casadeibambinizambia.com
SUMMARY:Festive Break
DESCRIPTION:
URL:https://casadeibambinizambia.com/event/festive-break-2/
END:VEVENT
BEGIN:VEVENT
DTSTART;VALUE=DATE:20181122
DTEND;VALUE=DATE:20181124
DTSTAMP:20260425T144942
CREATED:20180831T113607Z
LAST-MODIFIED:20180831T113607Z
UID:1732-1542844800-1543017599@casadeibambinizambia.com
SUMMARY:Thanksgiving Holiday
DESCRIPTION:
URL:https://casadeibambinizambia.com/event/thanksgiving-holiday-2/
END:VEVENT
BEGIN:VEVENT
DTSTART;TZID=Africa/Lusaka:20181025T080000
DTEND;TZID=Africa/Lusaka:20181025T170000
DTSTAMP:20260425T144942
CREATED:20180831T113531Z
LAST-MODIFIED:20180831T113531Z
UID:1729-1540454400-1540486800@casadeibambinizambia.com
SUMMARY:Back to School
DESCRIPTION:
URL:https://casadeibambinizambia.com/event/back-to-school-2/
END:VEVENT
BEGIN:VEVENT
DTSTART;VALUE=DATE:20181015
DTEND;VALUE=DATE:20181025
DTSTAMP:20260425T144942
CREATED:20180831T113503Z
LAST-MODIFIED:20180831T114218Z
UID:1731-1539561600-1540425599@casadeibambinizambia.com
SUMMARY:Half Term
DESCRIPTION:
URL:https://casadeibambinizambia.com/event/half-term/
END:VEVENT
BEGIN:VEVENT
DTSTART;VALUE=DATE:20180914
DTEND;VALUE=DATE:20180915
DTSTAMP:20260425T144942
CREATED:20180831T113423Z
LAST-MODIFIED:20180831T113423Z
UID:1730-1536883200-1536969599@casadeibambinizambia.com
SUMMARY:School Holiday
DESCRIPTION:
URL:https://casadeibambinizambia.com/event/school-holiday/
END:VEVENT
BEGIN:VEVENT
DTSTART;TZID=Africa/Lusaka:20180808T080000
DTEND;TZID=Africa/Lusaka:20180808T170000
DTSTAMP:20260425T144942
CREATED:20180831T113331Z
LAST-MODIFIED:20180831T113331Z
UID:1727-1533715200-1533747600@casadeibambinizambia.com
SUMMARY:First Day of School (Term 1)
DESCRIPTION:
URL:https://casadeibambinizambia.com/event/first-day-of-school-term-1/
END:VEVENT
BEGIN:VEVENT
DTSTART;VALUE=DATE:20180614
DTEND;VALUE=DATE:20180615
DTSTAMP:20260425T144942
CREATED:20170620T090537Z
LAST-MODIFIED:20170620T090537Z
UID:1448-1528934400-1529020799@casadeibambinizambia.com
SUMMARY:Last Day of School!
DESCRIPTION:
URL:https://casadeibambinizambia.com/event/last-day-of-school-2/
END:VEVENT
BEGIN:VEVENT
DTSTART;VALUE=DATE:20180525
DTEND;VALUE=DATE:20180526
DTSTAMP:20260425T144942
CREATED:20170620T090452Z
LAST-MODIFIED:20170620T090452Z
UID:1446-1527206400-1527292799@casadeibambinizambia.com
SUMMARY:Africa Freedom Day Holiday
DESCRIPTION:
URL:https://casadeibambinizambia.com/event/africa-freedom-day-holiday/
CATEGORIES:Public Holidays
END:VEVENT
BEGIN:VEVENT
DTSTART;VALUE=DATE:20180501
DTEND;VALUE=DATE:20180502
DTSTAMP:20260425T144942
CREATED:20170620T090411Z
LAST-MODIFIED:20170620T090411Z
UID:1444-1525132800-1525219199@casadeibambinizambia.com
SUMMARY:Labor Day Holiday
DESCRIPTION:
URL:https://casadeibambinizambia.com/event/labor-day-holiday/
CATEGORIES:Public Holidays
END:VEVENT
BEGIN:VEVENT
DTSTART;VALUE=DATE:20180409
DTEND;VALUE=DATE:20180410
DTSTAMP:20260425T144942
CREATED:20170620T090333Z
LAST-MODIFIED:20170620T090333Z
UID:1442-1523232000-1523318399@casadeibambinizambia.com
SUMMARY:First Day of Term 3
DESCRIPTION:
URL:https://casadeibambinizambia.com/event/first-day-of-term-3/
END:VEVENT
BEGIN:VEVENT
DTSTART;VALUE=DATE:20180402
DTEND;VALUE=DATE:20180407
DTSTAMP:20260425T144942
CREATED:20170620T090252Z
LAST-MODIFIED:20170620T090252Z
UID:1440-1522627200-1523059199@casadeibambinizambia.com
SUMMARY:Easter Holidays
DESCRIPTION:
URL:https://casadeibambinizambia.com/event/easter-holidays/
CATEGORIES:School Holiday
END:VEVENT
BEGIN:VEVENT
DTSTART;VALUE=DATE:20180330
DTEND;VALUE=DATE:20180331
DTSTAMP:20260425T144942
CREATED:20170620T090203Z
LAST-MODIFIED:20170620T090203Z
UID:1438-1522368000-1522454399@casadeibambinizambia.com
SUMMARY:Good Friday Holiday
DESCRIPTION:
URL:https://casadeibambinizambia.com/event/good-friday-holiday/
CATEGORIES:Public Holidays
END:VEVENT
BEGIN:VEVENT
DTSTART;VALUE=DATE:20180312
DTEND;VALUE=DATE:20180313
DTSTAMP:20260425T144942
CREATED:20170620T090105Z
LAST-MODIFIED:20170620T090125Z
UID:1435-1520812800-1520899199@casadeibambinizambia.com
SUMMARY:Youth Day Holiday
DESCRIPTION:
URL:https://casadeibambinizambia.com/event/youth-day/
CATEGORIES:Public Holidays
END:VEVENT
BEGIN:VEVENT
DTSTART;VALUE=DATE:20180308
DTEND;VALUE=DATE:20180309
DTSTAMP:20260425T144942
CREATED:20170620T090029Z
LAST-MODIFIED:20170620T090948Z
UID:1433-1520467200-1520553599@casadeibambinizambia.com
SUMMARY:International Womans Day Holiday
DESCRIPTION:
URL:https://casadeibambinizambia.com/event/international-womans-day/
CATEGORIES:Public Holidays
END:VEVENT
BEGIN:VEVENT
DTSTART;VALUE=DATE:20180116
DTEND;VALUE=DATE:20180117
DTSTAMP:20260425T144942
CREATED:20170620T085947Z
LAST-MODIFIED:20170620T085947Z
UID:1431-1516060800-1516147199@casadeibambinizambia.com
SUMMARY:First Day of Term 2
DESCRIPTION:
URL:https://casadeibambinizambia.com/event/first-day-of-term-2/
END:VEVENT
BEGIN:VEVENT
DTSTART;VALUE=DATE:20171218
DTEND;VALUE=DATE:20180116
DTSTAMP:20260425T144942
CREATED:20170620T085850Z
LAST-MODIFIED:20170620T090959Z
UID:1429-1513555200-1516060799@casadeibambinizambia.com
SUMMARY:Festive Holiday
DESCRIPTION:
URL:https://casadeibambinizambia.com/event/festive-break/
CATEGORIES:School Holiday
END:VEVENT
END:VCALENDAR