BEGIN:VCALENDAR
VERSION:2.0
PRODID:-//Casa dei Bambini - ECPv6.15.13//NONSGML v1.0//EN
CALSCALE:GREGORIAN
METHOD:PUBLISH
X-ORIGINAL-URL:https://casadeibambinizambia.com
X-WR-CALDESC:Events for Casa dei Bambini
REFRESH-INTERVAL;VALUE=DURATION:PT1H
X-Robots-Tag:noindex
X-PUBLISHED-TTL:PT1H
BEGIN:VTIMEZONE
TZID:Africa/Lusaka
BEGIN:STANDARD
TZOFFSETFROM:+0200
TZOFFSETTO:+0200
TZNAME:CAT
DTSTART:20250101T000000
END:STANDARD
END:VTIMEZONE
BEGIN:VEVENT
DTSTART;VALUE=DATE:20260403
DTEND;VALUE=DATE:20260404
DTSTAMP:20260425T160441
CREATED:20250904T190943Z
LAST-MODIFIED:20250904T190943Z
UID:3022-1775174400-1775260799@casadeibambinizambia.com
SUMMARY:Good Friday
DESCRIPTION:
URL:https://casadeibambinizambia.com/event/good-friday-5/
END:VEVENT
BEGIN:VEVENT
DTSTART;VALUE=DATE:20260406
DTEND;VALUE=DATE:20260407
DTSTAMP:20260425T160441
CREATED:20250904T191000Z
LAST-MODIFIED:20250904T191000Z
UID:3024-1775433600-1775519999@casadeibambinizambia.com
SUMMARY:Easter Monday
DESCRIPTION:
URL:https://casadeibambinizambia.com/event/easter-monday-6/
END:VEVENT
BEGIN:VEVENT
DTSTART;VALUE=DATE:20260428
DTEND;VALUE=DATE:20260429
DTSTAMP:20260425T160441
CREATED:20250904T191022Z
LAST-MODIFIED:20250904T191022Z
UID:3026-1777334400-1777420799@casadeibambinizambia.com
SUMMARY:KK Day
DESCRIPTION:
URL:https://casadeibambinizambia.com/event/kk-day-2/
END:VEVENT
BEGIN:VEVENT
DTSTART;VALUE=DATE:20260501
DTEND;VALUE=DATE:20260502
DTSTAMP:20260425T160441
CREATED:20250904T191036Z
LAST-MODIFIED:20250904T191036Z
UID:3028-1777593600-1777679999@casadeibambinizambia.com
SUMMARY:Labour Day
DESCRIPTION:
URL:https://casadeibambinizambia.com/event/labour-day-5/
END:VEVENT
BEGIN:VEVENT
DTSTART;VALUE=DATE:20260525
DTEND;VALUE=DATE:20260526
DTSTAMP:20260425T160441
CREATED:20250904T191054Z
LAST-MODIFIED:20250904T191054Z
UID:3030-1779667200-1779753599@casadeibambinizambia.com
SUMMARY:Africa Freedom Day
DESCRIPTION:
URL:https://casadeibambinizambia.com/event/africa-freedom-day-4/
END:VEVENT
BEGIN:VEVENT
DTSTART;VALUE=DATE:20260612
DTEND;VALUE=DATE:20260613
DTSTAMP:20260425T160441
CREATED:20250904T191120Z
LAST-MODIFIED:20250904T191120Z
UID:3032-1781222400-1781308799@casadeibambinizambia.com
SUMMARY:Last Day of School
DESCRIPTION:
URL:https://casadeibambinizambia.com/event/last-day-of-school-23/
END:VEVENT
END:VCALENDAR