BEGIN:VCALENDAR
VERSION:2.0
PRODID:-//Casa dei Bambini - ECPv6.15.13//NONSGML v1.0//EN
CALSCALE:GREGORIAN
METHOD:PUBLISH
X-WR-CALNAME:Casa dei Bambini
X-ORIGINAL-URL:https://casadeibambinizambia.com
X-WR-CALDESC:Events for Casa dei Bambini
REFRESH-INTERVAL;VALUE=DURATION:PT1H
X-Robots-Tag:noindex
X-PUBLISHED-TTL:PT1H
BEGIN:VTIMEZONE
TZID:Africa/Lusaka
BEGIN:STANDARD
TZOFFSETFROM:+0200
TZOFFSETTO:+0200
TZNAME:CAT
DTSTART:20220101T000000
END:STANDARD
END:VTIMEZONE
BEGIN:VEVENT
DTSTART;VALUE=DATE:20250317
DTEND;VALUE=DATE:20250318
DTSTAMP:20260425T160331
CREATED:20240304T105222Z
LAST-MODIFIED:20240304T105222Z
UID:2935-1742169600-1742255999@casadeibambinizambia.com
SUMMARY:Back to School
DESCRIPTION:
URL:https://casadeibambinizambia.com/event/back-to-school-6/
END:VEVENT
BEGIN:VEVENT
DTSTART;VALUE=DATE:20250307
DTEND;VALUE=DATE:20250308
DTSTAMP:20260425T160331
CREATED:20240304T105159Z
LAST-MODIFIED:20240304T105159Z
UID:2933-1741305600-1741391999@casadeibambinizambia.com
SUMMARY:Last Day of School
DESCRIPTION:
URL:https://casadeibambinizambia.com/event/last-day-of-school-18/
END:VEVENT
BEGIN:VEVENT
DTSTART;VALUE=DATE:20250114
DTEND;VALUE=DATE:20250115
DTSTAMP:20260425T160331
CREATED:20240304T105133Z
LAST-MODIFIED:20240304T105133Z
UID:2931-1736812800-1736899199@casadeibambinizambia.com
SUMMARY:First Day of School
DESCRIPTION:
URL:https://casadeibambinizambia.com/event/first-day-of-school-12/
END:VEVENT
BEGIN:VEVENT
DTSTART;VALUE=DATE:20250113
DTEND;VALUE=DATE:20250114
DTSTAMP:20260425T160331
CREATED:20240304T105114Z
LAST-MODIFIED:20240304T105114Z
UID:2929-1736726400-1736812799@casadeibambinizambia.com
SUMMARY:Orientation Morning
DESCRIPTION:
URL:https://casadeibambinizambia.com/event/orientation-morning-2/
END:VEVENT
BEGIN:VEVENT
DTSTART;VALUE=DATE:20241213
DTEND;VALUE=DATE:20241214
DTSTAMP:20260425T160331
CREATED:20240304T105057Z
LAST-MODIFIED:20240304T105057Z
UID:2927-1734048000-1734134399@casadeibambinizambia.com
SUMMARY:Last Day of School
DESCRIPTION:
URL:https://casadeibambinizambia.com/event/last-day-of-school-17/
END:VEVENT
BEGIN:VEVENT
DTSTART;VALUE=DATE:20241028
DTEND;VALUE=DATE:20241029
DTSTAMP:20260425T160331
CREATED:20240304T105020Z
LAST-MODIFIED:20240304T105020Z
UID:2925-1730073600-1730159999@casadeibambinizambia.com
SUMMARY:Back to School
DESCRIPTION:
URL:https://casadeibambinizambia.com/event/back-to-school-5/
END:VEVENT
BEGIN:VEVENT
DTSTART;VALUE=DATE:20241024
DTEND;VALUE=DATE:20241025
DTSTAMP:20260425T160331
CREATED:20240304T105006Z
LAST-MODIFIED:20240304T105006Z
UID:2923-1729728000-1729814399@casadeibambinizambia.com
SUMMARY:Independence Day
DESCRIPTION:
URL:https://casadeibambinizambia.com/event/independence-day-4/
END:VEVENT
BEGIN:VEVENT
DTSTART;VALUE=DATE:20241018
DTEND;VALUE=DATE:20241019
DTSTAMP:20260425T160331
CREATED:20240304T104949Z
LAST-MODIFIED:20240304T104949Z
UID:2921-1729209600-1729295999@casadeibambinizambia.com
SUMMARY:National Prayer Day
DESCRIPTION:
URL:https://casadeibambinizambia.com/event/national-prayer-day/
END:VEVENT
BEGIN:VEVENT
DTSTART;VALUE=DATE:20241017
DTEND;VALUE=DATE:20241018
DTSTAMP:20260425T160331
CREATED:20240304T104933Z
LAST-MODIFIED:20240304T104933Z
UID:2919-1729123200-1729209599@casadeibambinizambia.com
SUMMARY:Last Day of School
DESCRIPTION:
URL:https://casadeibambinizambia.com/event/last-day-of-school-16/
END:VEVENT
BEGIN:VEVENT
DTSTART;VALUE=DATE:20240813
DTEND;VALUE=DATE:20240814
DTSTAMP:20260425T160331
CREATED:20240304T104853Z
LAST-MODIFIED:20240304T104853Z
UID:2917-1723507200-1723593599@casadeibambinizambia.com
SUMMARY:First Day of School
DESCRIPTION:
URL:https://casadeibambinizambia.com/event/first-day-of-school-11/
END:VEVENT
BEGIN:VEVENT
DTSTART;VALUE=DATE:20240812
DTEND;VALUE=DATE:20240813
DTSTAMP:20260425T160331
CREATED:20240304T104735Z
LAST-MODIFIED:20240304T104735Z
UID:2915-1723420800-1723507199@casadeibambinizambia.com
SUMMARY:Orientation Morning
DESCRIPTION:
URL:https://casadeibambinizambia.com/event/orientation-morning/
END:VEVENT
BEGIN:VEVENT
DTSTART;VALUE=DATE:20240613
DTEND;VALUE=DATE:20240614
DTSTAMP:20260425T160331
CREATED:20230814T083943Z
LAST-MODIFIED:20230814T083943Z
UID:2863-1718236800-1718323199@casadeibambinizambia.com
SUMMARY:Last Day of School
DESCRIPTION:
URL:https://casadeibambinizambia.com/event/last-day-of-school-15/
END:VEVENT
BEGIN:VEVENT
DTSTART;VALUE=DATE:20240525
DTEND;VALUE=DATE:20240526
DTSTAMP:20260425T160331
CREATED:20230814T083919Z
LAST-MODIFIED:20230814T083919Z
UID:2861-1716595200-1716681599@casadeibambinizambia.com
SUMMARY:African Freedom Day
DESCRIPTION:
URL:https://casadeibambinizambia.com/event/african-freedom-day-2/
END:VEVENT
BEGIN:VEVENT
DTSTART;VALUE=DATE:20240501
DTEND;VALUE=DATE:20240502
DTSTAMP:20260425T160331
CREATED:20230814T083741Z
LAST-MODIFIED:20230814T083741Z
UID:2859-1714521600-1714607999@casadeibambinizambia.com
SUMMARY:Labour Day
DESCRIPTION:
URL:https://casadeibambinizambia.com/event/labour-day-3/
END:VEVENT
BEGIN:VEVENT
DTSTART;VALUE=DATE:20240429
DTEND;VALUE=DATE:20240430
DTSTAMP:20260425T160331
CREATED:20230814T083709Z
LAST-MODIFIED:20230814T083709Z
UID:2857-1714348800-1714435199@casadeibambinizambia.com
SUMMARY:Holiday in memory of President Kenneth Kaunda
DESCRIPTION:
URL:https://casadeibambinizambia.com/event/holiday-in-memory-of-president-kenneth-kaunda-2/
END:VEVENT
BEGIN:VEVENT
DTSTART;VALUE=DATE:20240401
DTEND;VALUE=DATE:20240402
DTSTAMP:20260425T160331
CREATED:20230814T083642Z
LAST-MODIFIED:20230814T083642Z
UID:2855-1711929600-1712015999@casadeibambinizambia.com
SUMMARY:Easter Monday
DESCRIPTION:
URL:https://casadeibambinizambia.com/event/easter-monday-4/
END:VEVENT
BEGIN:VEVENT
DTSTART;VALUE=DATE:20240329
DTEND;VALUE=DATE:20240330
DTSTAMP:20260425T160331
CREATED:20230814T083601Z
LAST-MODIFIED:20230814T083601Z
UID:2851-1711670400-1711756799@casadeibambinizambia.com
SUMMARY:Good Friday
DESCRIPTION:
URL:https://casadeibambinizambia.com/event/good-friday-3/
END:VEVENT
BEGIN:VEVENT
DTSTART;VALUE=DATE:20240318
DTEND;VALUE=DATE:20240319
DTSTAMP:20260425T160331
CREATED:20230814T083621Z
LAST-MODIFIED:20230814T083621Z
UID:2853-1710720000-1710806399@casadeibambinizambia.com
SUMMARY:First Day of School
DESCRIPTION:
URL:https://casadeibambinizambia.com/event/first-day-of-school-10/
END:VEVENT
BEGIN:VEVENT
DTSTART;VALUE=DATE:20240308
DTEND;VALUE=DATE:20240316
DTSTAMP:20260425T160331
CREATED:20230814T083530Z
LAST-MODIFIED:20230814T083530Z
UID:2849-1709856000-1710547199@casadeibambinizambia.com
SUMMARY:School Holidays
DESCRIPTION:
URL:https://casadeibambinizambia.com/event/school-holidays-4/
END:VEVENT
BEGIN:VEVENT
DTSTART;VALUE=DATE:20240308
DTEND;VALUE=DATE:20240309
DTSTAMP:20260425T160331
CREATED:20230814T083459Z
LAST-MODIFIED:20230814T083459Z
UID:2847-1709856000-1709942399@casadeibambinizambia.com
SUMMARY:International Womens Day
DESCRIPTION:
URL:https://casadeibambinizambia.com/event/international-womens-day-5/
END:VEVENT
BEGIN:VEVENT
DTSTART;VALUE=DATE:20240307
DTEND;VALUE=DATE:20240308
DTSTAMP:20260425T160331
CREATED:20230814T083439Z
LAST-MODIFIED:20230814T083439Z
UID:2845-1709769600-1709855999@casadeibambinizambia.com
SUMMARY:Last Day of School
DESCRIPTION:
URL:https://casadeibambinizambia.com/event/last-day-of-school-14/
END:VEVENT
BEGIN:VEVENT
DTSTART;VALUE=DATE:20240116
DTEND;VALUE=DATE:20240117
DTSTAMP:20260425T160331
CREATED:20230814T083416Z
LAST-MODIFIED:20230814T083416Z
UID:2843-1705363200-1705449599@casadeibambinizambia.com
SUMMARY:First Day of School
DESCRIPTION:
URL:https://casadeibambinizambia.com/event/first-day-of-school-9/
END:VEVENT
BEGIN:VEVENT
DTSTART;VALUE=DATE:20231215
DTEND;VALUE=DATE:20231216
DTSTAMP:20260425T160331
CREATED:20230814T083307Z
LAST-MODIFIED:20230814T083307Z
UID:2841-1702598400-1702684799@casadeibambinizambia.com
SUMMARY:Last Day of School
DESCRIPTION:
URL:https://casadeibambinizambia.com/event/last-day-of-school-13/
END:VEVENT
BEGIN:VEVENT
DTSTART;VALUE=DATE:20231025
DTEND;VALUE=DATE:20231026
DTSTAMP:20260425T160331
CREATED:20230814T083243Z
LAST-MODIFIED:20230814T083243Z
UID:2839-1698192000-1698278399@casadeibambinizambia.com
SUMMARY:First Day of School
DESCRIPTION:
URL:https://casadeibambinizambia.com/event/first-day-of-school-8/
END:VEVENT
BEGIN:VEVENT
DTSTART;VALUE=DATE:20231024
DTEND;VALUE=DATE:20231025
DTSTAMP:20260425T160331
CREATED:20230814T083223Z
LAST-MODIFIED:20230814T083223Z
UID:2837-1698105600-1698191999@casadeibambinizambia.com
SUMMARY:Independence Day
DESCRIPTION:
URL:https://casadeibambinizambia.com/event/independence-day-3/
END:VEVENT
BEGIN:VEVENT
DTSTART;VALUE=DATE:20231016
DTEND;VALUE=DATE:20231025
DTSTAMP:20260425T160331
CREATED:20230814T083201Z
LAST-MODIFIED:20230814T083201Z
UID:2835-1697414400-1698191999@casadeibambinizambia.com
SUMMARY:School Holidays
DESCRIPTION:
URL:https://casadeibambinizambia.com/event/school-holidays-3/
END:VEVENT
BEGIN:VEVENT
DTSTART;VALUE=DATE:20231013
DTEND;VALUE=DATE:20231014
DTSTAMP:20260425T160331
CREATED:20230814T083120Z
LAST-MODIFIED:20230814T083120Z
UID:2833-1697155200-1697241599@casadeibambinizambia.com
SUMMARY:Last Day of School
DESCRIPTION:
URL:https://casadeibambinizambia.com/event/last-day-of-school-12/
END:VEVENT
BEGIN:VEVENT
DTSTART;VALUE=DATE:20230814
DTEND;VALUE=DATE:20230815
DTSTAMP:20260425T160331
CREATED:20230814T083022Z
LAST-MODIFIED:20230814T083039Z
UID:2831-1691971200-1692057599@casadeibambinizambia.com
SUMMARY:First Day of School
DESCRIPTION:
URL:https://casadeibambinizambia.com/event/first-day-of-school-7/
END:VEVENT
BEGIN:VEVENT
DTSTART;VALUE=DATE:20230811
DTEND;VALUE=DATE:20230812
DTSTAMP:20260425T160331
CREATED:20230814T082418Z
LAST-MODIFIED:20230814T082418Z
UID:2829-1691712000-1691798399@casadeibambinizambia.com
SUMMARY:Orientation morning 8am – 10am
DESCRIPTION:
URL:https://casadeibambinizambia.com/event/orientation-morning-8am-10am/
END:VEVENT
BEGIN:VEVENT
DTSTART;VALUE=DATE:20230616
DTEND;VALUE=DATE:20230617
DTSTAMP:20260425T160331
CREATED:20211215T100319Z
LAST-MODIFIED:20211215T100319Z
UID:2467-1686873600-1686959999@casadeibambinizambia.com
SUMMARY:Last Day of School
DESCRIPTION:
URL:https://casadeibambinizambia.com/event/last-day-of-school-11/
END:VEVENT
END:VCALENDAR