BEGIN:VCALENDAR
VERSION:2.0
PRODID:-//Casa dei Bambini - ECPv6.15.13//NONSGML v1.0//EN
CALSCALE:GREGORIAN
METHOD:PUBLISH
X-WR-CALNAME:Casa dei Bambini
X-ORIGINAL-URL:https://casadeibambinizambia.com
X-WR-CALDESC:Events for Casa dei Bambini
REFRESH-INTERVAL;VALUE=DURATION:PT1H
X-Robots-Tag:noindex
X-PUBLISHED-TTL:PT1H
BEGIN:VTIMEZONE
TZID:Africa/Lusaka
BEGIN:STANDARD
TZOFFSETFROM:+0200
TZOFFSETTO:+0200
TZNAME:CAT
DTSTART:20160101T000000
END:STANDARD
END:VTIMEZONE
BEGIN:VEVENT
DTSTART;VALUE=DATE:20230306
DTEND;VALUE=DATE:20230314
DTSTAMP:20260424T164527
CREATED:20211215T095926Z
LAST-MODIFIED:20211215T095926Z
UID:2451-1678060800-1678751999@casadeibambinizambia.com
SUMMARY:School Holidays
DESCRIPTION:
URL:https://casadeibambinizambia.com/event/school-holidays-2/
CATEGORIES:School Holiday
END:VEVENT
BEGIN:VEVENT
DTSTART;VALUE=DATE:20221017
DTEND;VALUE=DATE:20221025
DTSTAMP:20260424T164527
CREATED:20211215T095528Z
LAST-MODIFIED:20211215T100759Z
UID:2435-1665964800-1666655999@casadeibambinizambia.com
SUMMARY:School Holidays
DESCRIPTION:
URL:https://casadeibambinizambia.com/event/school-holidays/
CATEGORIES:School Holiday
END:VEVENT
BEGIN:VEVENT
DTSTART;VALUE=DATE:20180402
DTEND;VALUE=DATE:20180407
DTSTAMP:20260424T164527
CREATED:20170620T090252Z
LAST-MODIFIED:20170620T090252Z
UID:1440-1522627200-1523059199@casadeibambinizambia.com
SUMMARY:Easter Holidays
DESCRIPTION:
URL:https://casadeibambinizambia.com/event/easter-holidays/
CATEGORIES:School Holiday
END:VEVENT
BEGIN:VEVENT
DTSTART;VALUE=DATE:20171218
DTEND;VALUE=DATE:20180116
DTSTAMP:20260424T164527
CREATED:20170620T085850Z
LAST-MODIFIED:20170620T090959Z
UID:1429-1513555200-1516060799@casadeibambinizambia.com
SUMMARY:Festive Holiday
DESCRIPTION:
URL:https://casadeibambinizambia.com/event/festive-break/
CATEGORIES:School Holiday
END:VEVENT
BEGIN:VEVENT
DTSTART;VALUE=DATE:20171123
DTEND;VALUE=DATE:20171125
DTSTAMP:20260424T164527
CREATED:20170620T085756Z
LAST-MODIFIED:20170620T085756Z
UID:1427-1511395200-1511567999@casadeibambinizambia.com
SUMMARY:Thanksgiving Holiday
DESCRIPTION:
URL:https://casadeibambinizambia.com/event/thanksgiving-holiday/
CATEGORIES:School Holiday
END:VEVENT
BEGIN:VEVENT
DTSTART;VALUE=DATE:20171016
DTEND;VALUE=DATE:20171025
DTSTAMP:20260424T164527
CREATED:20170620T085643Z
LAST-MODIFIED:20170620T085643Z
UID:1423-1508112000-1508889599@casadeibambinizambia.com
SUMMARY:Mid-Term Holiday
DESCRIPTION:
URL:https://casadeibambinizambia.com/event/mid-term-holiday/
CATEGORIES:School Holiday
END:VEVENT
BEGIN:VEVENT
DTSTART;VALUE=DATE:20170918
DTEND;VALUE=DATE:20170920
DTSTAMP:20260424T164527
CREATED:20170620T085459Z
LAST-MODIFIED:20170620T085459Z
UID:1420-1505692800-1505865599@casadeibambinizambia.com
SUMMARY:Holiday (Professional Development Day for Teachers)
DESCRIPTION:
URL:https://casadeibambinizambia.com/event/holiday-professional-development-day-for-teachers/
CATEGORIES:School Holiday
END:VEVENT
BEGIN:VEVENT
DTSTART;VALUE=DATE:20170410
DTEND;VALUE=DATE:20170418
DTSTAMP:20260424T164527
CREATED:20170321T122820Z
LAST-MODIFIED:20170321T122820Z
UID:1212-1491782400-1492473599@casadeibambinizambia.com
SUMMARY:Easter Break
DESCRIPTION:
URL:https://casadeibambinizambia.com/event/easter-break/
CATEGORIES:School Holiday
END:VEVENT
END:VCALENDAR